BEGIN:VCALENDAR
VERSION:2.0
PRODID:-//Campus des métiers et des qualifications - Maintenance  en environnement sensible  Nouvelle-Aquitaine - ECPv6.15.20//NONSGML v1.0//EN
CALSCALE:GREGORIAN
METHOD:PUBLISH
X-ORIGINAL-URL:https://campus-mes.fr
X-WR-CALDESC:Évènements pour Campus des métiers et des qualifications - Maintenance  en environnement sensible  Nouvelle-Aquitaine
REFRESH-INTERVAL;VALUE=DURATION:PT1H
X-Robots-Tag:noindex
X-PUBLISHED-TTL:PT1H
BEGIN:VTIMEZONE
TZID:Europe/Paris
BEGIN:DAYLIGHT
TZOFFSETFROM:+0100
TZOFFSETTO:+0200
TZNAME:CEST
DTSTART:20240331T010000
END:DAYLIGHT
BEGIN:STANDARD
TZOFFSETFROM:+0200
TZOFFSETTO:+0100
TZNAME:CET
DTSTART:20241027T010000
END:STANDARD
BEGIN:DAYLIGHT
TZOFFSETFROM:+0100
TZOFFSETTO:+0200
TZNAME:CEST
DTSTART:20250330T010000
END:DAYLIGHT
BEGIN:STANDARD
TZOFFSETFROM:+0200
TZOFFSETTO:+0100
TZNAME:CET
DTSTART:20251026T010000
END:STANDARD
BEGIN:DAYLIGHT
TZOFFSETFROM:+0100
TZOFFSETTO:+0200
TZNAME:CEST
DTSTART:20260329T010000
END:DAYLIGHT
BEGIN:STANDARD
TZOFFSETFROM:+0200
TZOFFSETTO:+0100
TZNAME:CET
DTSTART:20261025T010000
END:STANDARD
END:VTIMEZONE
BEGIN:VEVENT
DTSTART;TZID=Europe/Paris:20250203T083000
DTEND;TZID=Europe/Paris:20250203T163000
DTSTAMP:20260421T102628
CREATED:20250131T131324Z
LAST-MODIFIED:20250131T131324Z
UID:4071-1738571400-1738600200@campus-mes.fr
SUMMARY:Semaine des métiers du Nucléaire - Job Dating Civaux
DESCRIPTION:📅 Lundi 3 février \n🕤 8h30 à 16h30 \n📌 Espace Odysselec – CNPE de Civaux \nLe CNPE de Civaux et le GIE Atlantique vous attendent au job dating organisé dans le cadre de la semaine du nucléaire. \nAu programme : \n\nPrésentations des offres en CDI et en alternance pour la campagne 2025 (du BAC au BAC +5)\nDécouvertes des métiers\nEchanges avec les professionnels de la filière\n\nVenez avec vos CV et Lettres de Motivations \n#EDF #CNPE #civaux #GIEAtlantique #recrutement #nucléaire #métiers #offreemploi #CDI #alternance #jobdating
URL:https://campus-mes.fr/event/semaine-des-metiers-du-nucleaire-job-dating-civaux/
END:VEVENT
BEGIN:VEVENT
DTSTART;TZID=Europe/Paris:20250203T090000
DTEND;TZID=Europe/Paris:20250203T120000
DTSTAMP:20260421T102628
CREATED:20250131T131943Z
LAST-MODIFIED:20250131T131943Z
UID:4074-1738573200-1738584000@campus-mes.fr
SUMMARY:Semaines des métiers du nucléaire - Les matinales de l'emploi
DESCRIPTION:📅 Lundi 3 février \n🕤 9h – 12h \n📌 CNPE de Braud et Saint Louis \nLe GIE Atlantique et France Travail organise les matinales de l’emploi \nPrésentation des métiers et des formations du secteur nucléaire animé par le GIE Atlantique (Association Régionale des entreprises prestataires du nucléaire. \nS’inscrire ici \n#nucléaire #GIEAtlantique #FranceTravail #métiers #formations #opportunité #emploi #TousMobilisés
URL:https://campus-mes.fr/event/semaines-des-metiers-du-nucleaire-les-matinales-de-lemploi/
END:VEVENT
BEGIN:VEVENT
DTSTART;TZID=Europe/Paris:20250204T083000
DTEND;TZID=Europe/Paris:20250204T120000
DTSTAMP:20260421T102628
CREATED:20250131T132212Z
LAST-MODIFIED:20250131T132536Z
UID:4077-1738657800-1738670400@campus-mes.fr
SUMMARY:Semaine des métiers du nucléaire - L'escape Game du Nucléaire
DESCRIPTION:📅 Mardi 4 février \n🕤 8h30 – 12h \n📌 CNPE de Braud et Saint Louis \nLa Mission Locale\, le GIE\, EDF et France Travail Blaye vous invitent à un incroyable parcours de découverte du secteur nucléaire ! \nOsez l’aventure avec un Escape Game captivant\, explorez les merveilles de l’Odyssélec et plongez dans le futur avec nos casques de réalité virtuelle. \nUne expérience immersive vous attend ! \nS’inscrire ici \n#nucléaire #GIEAtlantique #FranceTravail #MissionLocale #HauteGironde #TousMobilisés #opportunité
URL:https://campus-mes.fr/event/semaine-des-metiers-du-nucleaire-lescape-game-du-nucleaire/
END:VEVENT
BEGIN:VEVENT
DTSTART;VALUE=DATE:20250206
DTEND;VALUE=DATE:20250207
DTSTAMP:20260421T102628
CREATED:20250113T103511Z
LAST-MODIFIED:20250113T103511Z
UID:4059-1738800000-1738886399@campus-mes.fr
SUMMARY:Action cordée Fabrik’Industrie
DESCRIPTION:📅 6 février 2025 – Visite de CNPE Blayais \nLe lycée de la Mer de Gujan Mestras fera participer des élèves du collège sur la journée entière. \nDans le cadre de la cordée de la réussite Fabrik’Industrie\, une journée découverte des filières industrielles est proposée aux établissements encordés. \nDéroulé : \n\nVisite d’un site industriel
URL:https://campus-mes.fr/event/action-cordee-fabrikindustrie-11/
END:VEVENT
BEGIN:VEVENT
DTSTART;VALUE=DATE:20250207
DTEND;VALUE=DATE:20250209
DTSTAMP:20260421T102628
CREATED:20250109T132510Z
LAST-MODIFIED:20250109T132510Z
UID:3997-1738886400-1739059199@campus-mes.fr
SUMMARY:Salon FOFE - Angoulême
DESCRIPTION:Le Campus MES sera présent au sein de l’espace ERIONA (Espace Régional Information Orientation Nouvelle-Aquitaine) afin de faire la promotion des métiers et formations de la maintenance en environnement sensible. \nUn salon qui aura lieu du vendredi 7 février au samedi 8 février 2025 au Parc des Exposition de Grand Angoulême \nInformation sur le forum\, ici : Salon FOFE \nVenez nous rencontrer
URL:https://campus-mes.fr/event/salon-fofe-angouleme/
END:VEVENT
BEGIN:VEVENT
DTSTART;TZID=Europe/Paris:20250215T083000
DTEND;TZID=Europe/Paris:20250215T120000
DTSTAMP:20260421T102628
CREATED:20250110T101852Z
LAST-MODIFIED:20250110T101852Z
UID:4020-1739608200-1739620800@campus-mes.fr
SUMMARY:Portes Ouvertes - Lycée Professionnel de l'Estuaire - Blaye
DESCRIPTION:📅 Samedi 15 février 2025 \n🕤 8h30 à 12h00 \n📌 Lycée Professionnel de l’Estuaire – 41 rue Jaufré Rudel – 33390 BLAYE \nCet événement représente une opportunité de découvrir l’établissement et ses formations permettant de préparer des diplômes allant du bac professionnel\, en passant par le CAP ou le BTS \nTous les parents d’élèves actuels et futurs\, tous les partenaires et tous les curieux seront accueillis\, dirigés et renseignés durant ce temps de fort de la vie du lycée.
URL:https://campus-mes.fr/event/portes-ouvertes-lycee-professionnel-de-lestuaire-blaye/
END:VEVENT
BEGIN:VEVENT
DTSTART;TZID=Europe/Paris:20250215T090000
DTEND;TZID=Europe/Paris:20250215T163000
DTSTAMP:20260421T102628
CREATED:20250213T123609Z
LAST-MODIFIED:20250213T123609Z
UID:4082-1739610000-1739637000@campus-mes.fr
SUMMARY:Portes ouvertes Lycée Edouard Branly - Châtellerault
DESCRIPTION:📅 Samedi 15 février 2025 \n🕤 9h à 16h30 \n📌 2 rue Edouard Branly – 86100 CHATELLERAULT \nLe Lycée vous invite à la journée portes ouvertes notamment pour vous renseigner sur le BTS Electrotechnique \nCe sera l’occasion de vous renseigner sur le type de formation qui vous intéresse – Apprentissage ou voie scolaire \nDe nombreuses offres d’apprentissages sont régulièrement mises à disposition par les partenaires telles que EDF\, Eiffage\, Clemessy et bien d’autres. \nVoir : Site du Lycée
URL:https://campus-mes.fr/event/portes-ouvertes-lycee-edouard-branly-chatellerault/
END:VEVENT
BEGIN:VEVENT
DTSTART;TZID=Europe/Paris:20250215T090000
DTEND;TZID=Europe/Paris:20250215T170000
DTSTAMP:20260421T102628
CREATED:20250113T100926Z
LAST-MODIFIED:20250113T100926Z
UID:4027-1739610000-1739638800@campus-mes.fr
SUMMARY:Portes Ouvertes Université de Poitiers
DESCRIPTION:📅 Samedi 15 février 2025 \n🕤 9h à 17h \n📌 Les campus de Poitiers\, Niort\, Angoulême et Châtellerault \nVoir le programme :JPO Univ Poitiers
URL:https://campus-mes.fr/event/portes-ouvertes-universite-de-poitiers/
END:VEVENT
END:VCALENDAR