BEGIN:VCALENDAR
VERSION:2.0
PRODID:-//Campus des métiers et des qualifications - Maintenance  en environnement sensible  Nouvelle-Aquitaine - ECPv6.15.20//NONSGML v1.0//EN
CALSCALE:GREGORIAN
METHOD:PUBLISH
X-ORIGINAL-URL:https://campus-mes.fr
X-WR-CALDESC:Évènements pour Campus des métiers et des qualifications - Maintenance  en environnement sensible  Nouvelle-Aquitaine
REFRESH-INTERVAL;VALUE=DURATION:PT1H
X-Robots-Tag:noindex
X-PUBLISHED-TTL:PT1H
BEGIN:VTIMEZONE
TZID:Europe/Paris
BEGIN:DAYLIGHT
TZOFFSETFROM:+0100
TZOFFSETTO:+0200
TZNAME:CEST
DTSTART:20230326T010000
END:DAYLIGHT
BEGIN:STANDARD
TZOFFSETFROM:+0200
TZOFFSETTO:+0100
TZNAME:CET
DTSTART:20231029T010000
END:STANDARD
BEGIN:DAYLIGHT
TZOFFSETFROM:+0100
TZOFFSETTO:+0200
TZNAME:CEST
DTSTART:20240331T010000
END:DAYLIGHT
BEGIN:STANDARD
TZOFFSETFROM:+0200
TZOFFSETTO:+0100
TZNAME:CET
DTSTART:20241027T010000
END:STANDARD
BEGIN:DAYLIGHT
TZOFFSETFROM:+0100
TZOFFSETTO:+0200
TZNAME:CEST
DTSTART:20250330T010000
END:DAYLIGHT
BEGIN:STANDARD
TZOFFSETFROM:+0200
TZOFFSETTO:+0100
TZNAME:CET
DTSTART:20251026T010000
END:STANDARD
END:VTIMEZONE
BEGIN:VEVENT
DTSTART;TZID=Europe/Paris:20240903T090000
DTEND;TZID=Europe/Paris:20240903T120000
DTSTAMP:20260421T173323
CREATED:20240624T100018Z
LAST-MODIFIED:20240624T100018Z
UID:3855-1725354000-1725364800@campus-mes.fr
SUMMARY:Information Collective Formation RICS
DESCRIPTION:📅 Mardi 3 septembre 2024 de 9h à 12h \n📍GRETA CFA AQUITAINE – Lycée Professionnel Sud Gironde – 1\, allée des résistants – 33210 Langon \n+ d’info sur l’article : Formation CAP RICS
URL:https://campus-mes.fr/event/information-collective-formation-rics-2/
END:VEVENT
BEGIN:VEVENT
DTSTART;TZID=Europe/Paris:20240910T163000
DTEND;TZID=Europe/Paris:20240910T163000
DTSTAMP:20260421T173323
CREATED:20240903T133045Z
LAST-MODIFIED:20240903T133045Z
UID:3893-1725985800-1725985800@campus-mes.fr
SUMMARY:Forum de l'intérim - St André de Cubzac
DESCRIPTION:📅 Mardi 10 septembre 2024\, de 13h30 à 16h30 :  Forum de l’interim à St André de Cubzac \nPlusieurs secteurs d’activité présentés\, des agences d’intérim \nVenez avec vos CV
URL:https://campus-mes.fr/event/forum-de-linterim-st-andre-de-cubzac/
LOCATION:Allée du Champ de Foire 33240 Saint André de Cubzac\, Allée du Champ de Foire\, Saint André de Cubzac\, 33240\, France
END:VEVENT
BEGIN:VEVENT
DTSTART;TZID=Europe/Paris:20240927T093000
DTEND;TZID=Europe/Paris:20240927T120000
DTSTAMP:20260421T173323
CREATED:20240913T075556Z
LAST-MODIFIED:20240913T075556Z
UID:3908-1727429400-1727438400@campus-mes.fr
SUMMARY:Information Collective - CQPM Technicien Maintenance Industrielle spécialité Electricité
DESCRIPTION:Le CFAI Aquitaine de Reignac propose un CQPM Technicien de Maintenance Industrielle Spécialité Electricité \n📅 Rendez vous le vendredi 27 septembre à 9h30 \n📌Agence France Travail de Blaye (33) \nAmenez vos CV \n+ d’infos : Actu formation : CQPM Technicien de Maintenance Industrielle Spécialité Electricité
URL:https://campus-mes.fr/event/information-collective-cqpm-technicien-maintenance-industrielle-specialite-electricite/
END:VEVENT
END:VCALENDAR