BEGIN:VCALENDAR
VERSION:2.0
PRODID:-//Campus des métiers et des qualifications - Maintenance  en environnement sensible  Nouvelle-Aquitaine - ECPv6.15.20//NONSGML v1.0//EN
CALSCALE:GREGORIAN
METHOD:PUBLISH
X-WR-CALNAME:Campus des métiers et des qualifications - Maintenance  en environnement sensible  Nouvelle-Aquitaine
X-ORIGINAL-URL:https://campus-mes.fr
X-WR-CALDESC:Évènements pour Campus des métiers et des qualifications - Maintenance  en environnement sensible  Nouvelle-Aquitaine
REFRESH-INTERVAL;VALUE=DURATION:PT1H
X-Robots-Tag:noindex
X-PUBLISHED-TTL:PT1H
BEGIN:VTIMEZONE
TZID:Europe/Paris
BEGIN:DAYLIGHT
TZOFFSETFROM:+0100
TZOFFSETTO:+0200
TZNAME:CEST
DTSTART:20230326T010000
END:DAYLIGHT
BEGIN:STANDARD
TZOFFSETFROM:+0200
TZOFFSETTO:+0100
TZNAME:CET
DTSTART:20231029T010000
END:STANDARD
BEGIN:DAYLIGHT
TZOFFSETFROM:+0100
TZOFFSETTO:+0200
TZNAME:CEST
DTSTART:20240331T010000
END:DAYLIGHT
BEGIN:STANDARD
TZOFFSETFROM:+0200
TZOFFSETTO:+0100
TZNAME:CET
DTSTART:20241027T010000
END:STANDARD
BEGIN:DAYLIGHT
TZOFFSETFROM:+0100
TZOFFSETTO:+0200
TZNAME:CEST
DTSTART:20250330T010000
END:DAYLIGHT
BEGIN:STANDARD
TZOFFSETFROM:+0200
TZOFFSETTO:+0100
TZNAME:CET
DTSTART:20251026T010000
END:STANDARD
END:VTIMEZONE
BEGIN:VEVENT
DTSTART;TZID=Europe/Paris:20240513T080000
DTEND;TZID=Europe/Paris:20240618T170000
DTSTAMP:20260422T011749
CREATED:20240214T141604Z
LAST-MODIFIED:20240305T092132Z
UID:3600-1715587200-1718730000@campus-mes.fr
SUMMARY:Label Environnement Sensible - option Nucléaire
DESCRIPTION:📌FORMATION \n📢Face au enjeu du nucléaire\, le Campus Maintenance en Environnement Sensible propose un Label Environnement Sensible option nucléaire. \nUn parcours court pour colorer au nucléaire tout type de publics possédant une qualification métier dans le secteur de l’industrie. \n🔓 Ce label correspond à toute personne (étudiante\, demandeur d’emploi\, salarié) désireuse de s’insérer dans le domaine nucléaire \n✔️ Objectif : se former à l’environnement nucléaire afin de pouvoir occuper un poste en Centrale Nucléaire de Production d’Electricité. \n📅 Date : Du 13 mai au 18 juin 2024. \nInformation collective : 14 et 22 mars 2024 \n📝Inscription obligatoire par un conseiller en insertion professionnelle. \nRetrouvez + d’infos : Label
URL:https://campus-mes.fr/event/label-environnement-sensible-option-nucleaire/
END:VEVENT
BEGIN:VEVENT
DTSTART;TZID=Europe/Paris:20240514T090000
DTEND;TZID=Europe/Paris:20240514T170000
DTSTAMP:20260422T011749
CREATED:20240305T131618Z
LAST-MODIFIED:20240305T131618Z
UID:3686-1715677200-1715706000@campus-mes.fr
SUMMARY:Action Fabrik'Industrie - College Biscarosse
DESCRIPTION:📅 14 mai 2024 – Visite du CNPE du Blayais et du LP Estuaire \nLe collège Jean Mermoz de Biscarosse fera participer des élèves du collège sur la journée entière. \nDans le cadre de la cordée de la réussite Fabrik’Industrie\, une journée découverte des filières industrielles est proposée aux établissements encordés. \nPublic concerné : élèves volontaires de 4ème \nDéroulé : \n\nVisite des ateliers et des plateaux techniques du Lycée professionnel de l’Estuaire à Blaye (33)\nVisite d’un site industriel
URL:https://campus-mes.fr/event/action-fabrikindustrie-college-biscarosse/
END:VEVENT
BEGIN:VEVENT
DTSTART;TZID=Europe/Paris:20240522T140000
DTEND;TZID=Europe/Paris:20240522T170000
DTSTAMP:20260422T011749
CREATED:20240502T095911Z
LAST-MODIFIED:20240502T095911Z
UID:3792-1716386400-1716397200@campus-mes.fr
SUMMARY:Portes ouvertes - Site de Reignac
DESCRIPTION:📅 Mercredi 22 mai 2024 de 14h à 17h :  journée portes ouvertes au Pôle Formation de Nouvelle-Aquitaine (CFAI) de Reignac \nCet événement représente une opportunité de découvrir l’établissement et ses formations permettant de préparer des diplômes allant du bac professionnel à celui d’ingénieur\, en passant par le CAP ou le BTS \nPour vous inscrire c’est ici :Inscription
URL:https://campus-mes.fr/event/portes-ouvertes-site-de-reignac/
END:VEVENT
END:VCALENDAR