BEGIN:VCALENDAR
VERSION:2.0
PRODID:-//Campus des métiers et des qualifications - Maintenance  en environnement sensible  Nouvelle-Aquitaine - ECPv6.15.20//NONSGML v1.0//EN
CALSCALE:GREGORIAN
METHOD:PUBLISH
X-WR-CALNAME:Campus des métiers et des qualifications - Maintenance  en environnement sensible  Nouvelle-Aquitaine
X-ORIGINAL-URL:https://campus-mes.fr
X-WR-CALDESC:Évènements pour Campus des métiers et des qualifications - Maintenance  en environnement sensible  Nouvelle-Aquitaine
REFRESH-INTERVAL;VALUE=DURATION:PT1H
X-Robots-Tag:noindex
X-PUBLISHED-TTL:PT1H
BEGIN:VTIMEZONE
TZID:Europe/Paris
BEGIN:DAYLIGHT
TZOFFSETFROM:+0100
TZOFFSETTO:+0200
TZNAME:CEST
DTSTART:20230326T010000
END:DAYLIGHT
BEGIN:STANDARD
TZOFFSETFROM:+0200
TZOFFSETTO:+0100
TZNAME:CET
DTSTART:20231029T010000
END:STANDARD
BEGIN:DAYLIGHT
TZOFFSETFROM:+0100
TZOFFSETTO:+0200
TZNAME:CEST
DTSTART:20240331T010000
END:DAYLIGHT
BEGIN:STANDARD
TZOFFSETFROM:+0200
TZOFFSETTO:+0100
TZNAME:CET
DTSTART:20241027T010000
END:STANDARD
BEGIN:DAYLIGHT
TZOFFSETFROM:+0100
TZOFFSETTO:+0200
TZNAME:CEST
DTSTART:20250330T010000
END:DAYLIGHT
BEGIN:STANDARD
TZOFFSETFROM:+0200
TZOFFSETTO:+0100
TZNAME:CET
DTSTART:20251026T010000
END:STANDARD
END:VTIMEZONE
BEGIN:VEVENT
DTSTART;TZID=Europe/Paris:20241005T090000
DTEND;TZID=Europe/Paris:20241005T170000
DTSTAMP:20260421T173024
CREATED:20240903T133519Z
LAST-MODIFIED:20240903T133519Z
UID:3897-1728118800-1728147600@campus-mes.fr
SUMMARY:Salon de l'Etudiant - Pau
DESCRIPTION:Le Campus MES sera présent au sein de l’espace ERIONA (Espace Régional Information Orientation Nouvelle-Aquitaine) afin de faire la promotion des métiers et formations de la maintenance en environnement sensible. \nUn salon qui aura lieu le samedi 5 octobre 2024 au Zénith de Pau \nInformation sur le forum\, ici : Salon de l’étudiant \nVenez nous rencontrer
URL:https://campus-mes.fr/event/salon-de-letudiant-pau/
END:VEVENT
END:VCALENDAR