BEGIN:VCALENDAR
VERSION:2.0
PRODID:-//Campus des métiers et des qualifications - Maintenance  en environnement sensible  Nouvelle-Aquitaine - ECPv6.15.20//NONSGML v1.0//EN
CALSCALE:GREGORIAN
METHOD:PUBLISH
X-WR-CALNAME:Campus des métiers et des qualifications - Maintenance  en environnement sensible  Nouvelle-Aquitaine
X-ORIGINAL-URL:https://campus-mes.fr
X-WR-CALDESC:Évènements pour Campus des métiers et des qualifications - Maintenance  en environnement sensible  Nouvelle-Aquitaine
REFRESH-INTERVAL;VALUE=DURATION:PT1H
X-Robots-Tag:noindex
X-PUBLISHED-TTL:PT1H
BEGIN:VTIMEZONE
TZID:Europe/Paris
BEGIN:DAYLIGHT
TZOFFSETFROM:+0100
TZOFFSETTO:+0200
TZNAME:CEST
DTSTART:20230326T010000
END:DAYLIGHT
BEGIN:STANDARD
TZOFFSETFROM:+0200
TZOFFSETTO:+0100
TZNAME:CET
DTSTART:20231029T010000
END:STANDARD
BEGIN:DAYLIGHT
TZOFFSETFROM:+0100
TZOFFSETTO:+0200
TZNAME:CEST
DTSTART:20240331T010000
END:DAYLIGHT
BEGIN:STANDARD
TZOFFSETFROM:+0200
TZOFFSETTO:+0100
TZNAME:CET
DTSTART:20241027T010000
END:STANDARD
BEGIN:DAYLIGHT
TZOFFSETFROM:+0100
TZOFFSETTO:+0200
TZNAME:CEST
DTSTART:20250330T010000
END:DAYLIGHT
BEGIN:STANDARD
TZOFFSETFROM:+0200
TZOFFSETTO:+0100
TZNAME:CET
DTSTART:20251026T010000
END:STANDARD
END:VTIMEZONE
BEGIN:VEVENT
DTSTART;TZID=Europe/Paris:20240406T140000
DTEND;TZID=Europe/Paris:20240406T170000
DTSTAMP:20260422T024301
CREATED:20240305T135734Z
LAST-MODIFIED:20240305T135734Z
UID:3708-1712412000-1712422800@campus-mes.fr
SUMMARY:Forum job d'été & Apprentissage
DESCRIPTION:📅 Rendez vous samedi 6 avril de 14h à 17h \nlieu : Salle des fêtes de Saint Seurin de Cursac (33) \nAccès gratuit \nLe Forum Jobs d’été et Apprentissage est co-organisé par les 4 Communautés de communes de la Haute Gironde et se déroulera cette année sur le territoire de la CCE\, à la salle des fêtes de Saint Seurin de Cursac de 14h à 17h. \nDes entreprises seront présentes pour proposer des jobs d’été ou des contrats d’alternance.\nUne seule chose à faire venir avec sa motivation et son CV !
URL:https://campus-mes.fr/event/forum-job-dete-apprentissage/
END:VEVENT
END:VCALENDAR