BEGIN:VCALENDAR
VERSION:2.0
PRODID:-//Campus des métiers et des qualifications - Maintenance  en environnement sensible  Nouvelle-Aquitaine - ECPv6.15.20//NONSGML v1.0//EN
CALSCALE:GREGORIAN
METHOD:PUBLISH
X-WR-CALNAME:Campus des métiers et des qualifications - Maintenance  en environnement sensible  Nouvelle-Aquitaine
X-ORIGINAL-URL:https://campus-mes.fr
X-WR-CALDESC:Évènements pour Campus des métiers et des qualifications - Maintenance  en environnement sensible  Nouvelle-Aquitaine
REFRESH-INTERVAL;VALUE=DURATION:PT1H
X-Robots-Tag:noindex
X-PUBLISHED-TTL:PT1H
BEGIN:VTIMEZONE
TZID:Europe/Paris
BEGIN:DAYLIGHT
TZOFFSETFROM:+0100
TZOFFSETTO:+0200
TZNAME:CEST
DTSTART:20230326T010000
END:DAYLIGHT
BEGIN:STANDARD
TZOFFSETFROM:+0200
TZOFFSETTO:+0100
TZNAME:CET
DTSTART:20231029T010000
END:STANDARD
BEGIN:DAYLIGHT
TZOFFSETFROM:+0100
TZOFFSETTO:+0200
TZNAME:CEST
DTSTART:20240331T010000
END:DAYLIGHT
BEGIN:STANDARD
TZOFFSETFROM:+0200
TZOFFSETTO:+0100
TZNAME:CET
DTSTART:20241027T010000
END:STANDARD
BEGIN:DAYLIGHT
TZOFFSETFROM:+0100
TZOFFSETTO:+0200
TZNAME:CEST
DTSTART:20250330T010000
END:DAYLIGHT
BEGIN:STANDARD
TZOFFSETFROM:+0200
TZOFFSETTO:+0100
TZNAME:CET
DTSTART:20251026T010000
END:STANDARD
END:VTIMEZONE
BEGIN:VEVENT
DTSTART;TZID=Europe/Paris:20240404T090000
DTEND;TZID=Europe/Paris:20240405T170000
DTSTAMP:20260422T024300
CREATED:20240305T133424Z
LAST-MODIFIED:20240305T133424Z
UID:3698-1712221200-1712336400@campus-mes.fr
SUMMARY:Forum des métiers de la Maintenance Industrielle - Blaye
DESCRIPTION:📅 du jeudi 4 avril au vendredi 5 avril – Blaye \nUn forum des métiers de la maintenance industrielle et des formations  ouvert aux établissements scolaires se tiendra à Blaye sur 2 jours. \nDécouvertes des métiers de l’électricité\, de la soudure\, de la logistique… par des rencontres avec des professionnels et des animations. \n+ de 300 élèves de 4ème et 3ème sont attendus (sur inscription) venant de 10 collèges de la ZAP Ambition de la Haute Gironde et de la ZAP Haute Saintonge. \nLes formations en relation avec ses métiers seront présentés par le CFAI Aquitaine\, le CIO de Blaye\, Le Lycée Cousteau de St André de Cubzac et le Lycée professionnel de l’Estuaire de Blaye. \nNous pourrons compter sur la présences d’entreprises\, mais également nos partenaires France Chimie\, LEEM\, ACD et l’UMN.
URL:https://campus-mes.fr/event/forum-des-metiers-de-la-maintenance-industrielle-blaye/
END:VEVENT
END:VCALENDAR