BEGIN:VCALENDAR
VERSION:2.0
PRODID:-//Campus des métiers et des qualifications - Maintenance  en environnement sensible  Nouvelle-Aquitaine - ECPv6.15.20//NONSGML v1.0//EN
CALSCALE:GREGORIAN
METHOD:PUBLISH
X-WR-CALNAME:Campus des métiers et des qualifications - Maintenance  en environnement sensible  Nouvelle-Aquitaine
X-ORIGINAL-URL:https://campus-mes.fr
X-WR-CALDESC:Évènements pour Campus des métiers et des qualifications - Maintenance  en environnement sensible  Nouvelle-Aquitaine
REFRESH-INTERVAL;VALUE=DURATION:PT1H
X-Robots-Tag:noindex
X-PUBLISHED-TTL:PT1H
BEGIN:VTIMEZONE
TZID:Europe/Paris
BEGIN:DAYLIGHT
TZOFFSETFROM:+0100
TZOFFSETTO:+0200
TZNAME:CEST
DTSTART:20230326T010000
END:DAYLIGHT
BEGIN:STANDARD
TZOFFSETFROM:+0200
TZOFFSETTO:+0100
TZNAME:CET
DTSTART:20231029T010000
END:STANDARD
BEGIN:DAYLIGHT
TZOFFSETFROM:+0100
TZOFFSETTO:+0200
TZNAME:CEST
DTSTART:20240331T010000
END:DAYLIGHT
BEGIN:STANDARD
TZOFFSETFROM:+0200
TZOFFSETTO:+0100
TZNAME:CET
DTSTART:20241027T010000
END:STANDARD
BEGIN:DAYLIGHT
TZOFFSETFROM:+0100
TZOFFSETTO:+0200
TZNAME:CEST
DTSTART:20250330T010000
END:DAYLIGHT
BEGIN:STANDARD
TZOFFSETFROM:+0200
TZOFFSETTO:+0100
TZNAME:CET
DTSTART:20251026T010000
END:STANDARD
END:VTIMEZONE
BEGIN:VEVENT
DTSTART;TZID=Europe/Paris:20240328T080000
DTEND;TZID=Europe/Paris:20240328T170000
DTSTAMP:20260422T042519
CREATED:20240305T132739Z
LAST-MODIFIED:20240305T132739Z
UID:3696-1711612800-1711645200@campus-mes.fr
SUMMARY:Carrefour des métiers - Mourenx
DESCRIPTION:📅 Jeudi 28 mars – Carrefour des métiers de la ZAP des Gaves – Mourenx \nRendez-vous incontournable pour les élèves de découvrir des métiers\, formations et entreprises pour les aider dans leur choix d’orientation. \nL’UMN et le Campus MES seront présents.
URL:https://campus-mes.fr/event/carrefour-des-metiers-mourenx/
END:VEVENT
BEGIN:VEVENT
DTSTART;TZID=Europe/Paris:20240328T090000
DTEND;TZID=Europe/Paris:20240328T170000
DTSTAMP:20260422T042519
CREATED:20240305T131411Z
LAST-MODIFIED:20240305T131647Z
UID:3680-1711616400-1711645200@campus-mes.fr
SUMMARY:Action Fabrik'Industrie - Collège de Peujard
DESCRIPTION:📅 28 mars 2024 – Visite du CNPE du Blayais et du LP Estuaire \nLe collège d’Emile Durkheim de Peujard fera participer des élèves du collège sur la journée entière. \nDans le cadre de la cordée de la réussite Fabrik’Industrie\, une journée découverte des filières industrielles est proposée aux établissements encordés. \nPublic concerné : élèves volontaires de 4ème \nDéroulé : \n\nVisite des ateliers et des plateaux techniques du Lycée professionnel de l’Estuaire à Blaye (33)\nVisite d’un site industriel
URL:https://campus-mes.fr/event/action-fabrikindustrie-college-de-peujard/
END:VEVENT
END:VCALENDAR