BEGIN:VCALENDAR
VERSION:2.0
PRODID:-//Campus des métiers et des qualifications - Maintenance  en environnement sensible  Nouvelle-Aquitaine - ECPv6.15.20//NONSGML v1.0//EN
CALSCALE:GREGORIAN
METHOD:PUBLISH
X-ORIGINAL-URL:https://campus-mes.fr
X-WR-CALDESC:Évènements pour Campus des métiers et des qualifications - Maintenance  en environnement sensible  Nouvelle-Aquitaine
REFRESH-INTERVAL;VALUE=DURATION:PT1H
X-Robots-Tag:noindex
X-PUBLISHED-TTL:PT1H
BEGIN:VTIMEZONE
TZID:Europe/Paris
BEGIN:DAYLIGHT
TZOFFSETFROM:+0100
TZOFFSETTO:+0200
TZNAME:CEST
DTSTART:20230326T010000
END:DAYLIGHT
BEGIN:STANDARD
TZOFFSETFROM:+0200
TZOFFSETTO:+0100
TZNAME:CET
DTSTART:20231029T010000
END:STANDARD
BEGIN:DAYLIGHT
TZOFFSETFROM:+0100
TZOFFSETTO:+0200
TZNAME:CEST
DTSTART:20240331T010000
END:DAYLIGHT
BEGIN:STANDARD
TZOFFSETFROM:+0200
TZOFFSETTO:+0100
TZNAME:CET
DTSTART:20241027T010000
END:STANDARD
BEGIN:DAYLIGHT
TZOFFSETFROM:+0100
TZOFFSETTO:+0200
TZNAME:CEST
DTSTART:20250330T010000
END:DAYLIGHT
BEGIN:STANDARD
TZOFFSETFROM:+0200
TZOFFSETTO:+0100
TZNAME:CET
DTSTART:20251026T010000
END:STANDARD
END:VTIMEZONE
BEGIN:VEVENT
DTSTART;TZID=Europe/Paris:20240323T090000
DTEND;TZID=Europe/Paris:20240323T120000
DTSTAMP:20260422T042823
CREATED:20240305T132342Z
LAST-MODIFIED:20240305T132430Z
UID:3692-1711184400-1711195200@campus-mes.fr
SUMMARY:Portes Ouvertes - Lycée de l'Estuaire - Blaye
DESCRIPTION:📅 Samedi 23 mars 2024 de 9h à 12h – Journée Portes Ouvertes au Lycée professionnel de l’Estuaire à Blaye (33) \nVenez découvrir les formations proposées et le lycée. \nNos partenaires EDF et GIE Atlantique  seront présents
URL:https://campus-mes.fr/event/portes-ouvertes-lycee-de-lestuaire-blaye/
END:VEVENT
BEGIN:VEVENT
DTSTART;TZID=Europe/Paris:20240323T090000
DTEND;TZID=Europe/Paris:20240323T170000
DTSTAMP:20260422T042824
CREATED:20240307T151759Z
LAST-MODIFIED:20240307T151759Z
UID:3715-1711184400-1711213200@campus-mes.fr
SUMMARY:Portes ouvertes de l'apprentissage
DESCRIPTION:📅 Samedi 23 mars 2024 de 9h à 17h – Journée Portes Ouvertes de l’apprentissage au CFM de Reignac \nVenez découvrir les formations du CAP au BTS dans les domaines du bâtiment\, de l’industrie\, du commerce\, gestion et management ainsi que des espaces verts et agriculture avec la présence du CFA Agricole du Pugnac. \nInscrivez vous au 05 57 42 66 22
URL:https://campus-mes.fr/event/portes-ouvertes-de-lapprentissage/
END:VEVENT
END:VCALENDAR