BEGIN:VCALENDAR
VERSION:2.0
PRODID:-//Campus des métiers et des qualifications - Maintenance  en environnement sensible  Nouvelle-Aquitaine - ECPv6.15.20//NONSGML v1.0//EN
CALSCALE:GREGORIAN
METHOD:PUBLISH
X-WR-CALNAME:Campus des métiers et des qualifications - Maintenance  en environnement sensible  Nouvelle-Aquitaine
X-ORIGINAL-URL:https://campus-mes.fr
X-WR-CALDESC:Évènements pour Campus des métiers et des qualifications - Maintenance  en environnement sensible  Nouvelle-Aquitaine
REFRESH-INTERVAL;VALUE=DURATION:PT1H
X-Robots-Tag:noindex
X-PUBLISHED-TTL:PT1H
BEGIN:VTIMEZONE
TZID:Europe/Paris
BEGIN:DAYLIGHT
TZOFFSETFROM:+0100
TZOFFSETTO:+0200
TZNAME:CEST
DTSTART:20220327T010000
END:DAYLIGHT
BEGIN:STANDARD
TZOFFSETFROM:+0200
TZOFFSETTO:+0100
TZNAME:CET
DTSTART:20221030T010000
END:STANDARD
BEGIN:DAYLIGHT
TZOFFSETFROM:+0100
TZOFFSETTO:+0200
TZNAME:CEST
DTSTART:20230326T010000
END:DAYLIGHT
BEGIN:STANDARD
TZOFFSETFROM:+0200
TZOFFSETTO:+0100
TZNAME:CET
DTSTART:20231029T010000
END:STANDARD
BEGIN:DAYLIGHT
TZOFFSETFROM:+0100
TZOFFSETTO:+0200
TZNAME:CEST
DTSTART:20240331T010000
END:DAYLIGHT
BEGIN:STANDARD
TZOFFSETFROM:+0200
TZOFFSETTO:+0100
TZNAME:CET
DTSTART:20241027T010000
END:STANDARD
END:VTIMEZONE
BEGIN:VEVENT
DTSTART;TZID=Europe/Paris:20231121T080000
DTEND;TZID=Europe/Paris:20231121T170000
DTSTAMP:20260422T105103
CREATED:20230925T134211Z
LAST-MODIFIED:20240305T092223Z
UID:3498-1700553600-1700586000@campus-mes.fr
SUMMARY:Journée Découverte Métiers - Industrie Nucléaire
DESCRIPTION:📅 Rendez-vous le 21 novembre 2023 à la Centrale Nucléaire du Blayais – Braud et Saint Louis (Gironde) \nUne journée dédiée à la présentation de la filière nucléaire\, de ses métiers et des formations. Visite de la centrale Nucléaire \nDécouvertes des métiers d’agent de radioprotection\, mécanicien robinetier ou encore technicien de contrôle non destructif \nTransport ramassage EDF possible ! \nInscription avant le 19 octobre 2023 au 05 57 42 89 75 \n📝 Venez nombreux pour participer à cette nouvelle édition. \nPour + d’information cliquez sur le lien : \nSAVE THE DATE – Journée Découverte metiers : INDUSTRIES NUCLEAIRES
URL:https://campus-mes.fr/event/journee-decouverte-metiers-industrie-nucleaire/
END:VEVENT
END:VCALENDAR